BEGIN:VCALENDAR
VERSION:2.0
PRODID:LFV Website-Kit
METHOD:PUBLISH
BEGIN:VEVENT
UID:lfv-de0f2109-bc59-4b7e-9c6a-02620a0888f4
LOCATION:Aufheimer-Str. 7 89233 Neu-Ulm
SUMMARY:Übung aktive Mannschaft
DESCRIPTION:Übung\n\nTermin Link: http://neu-ulm-hausen.feuerwehren.bayern/termine/ubung-aktive-mannschaft-16/
URL:http://neu-ulm-hausen.feuerwehren.bayern/termine/ubung-aktive-mannschaft-16/
CLASS:PRIVATE
DTSTART;TZID=Europe/Berlin:20261109T193000
DTEND;TZID=Europe/Berlin:20261109T213000
DTSTAMP:20260421T102629Z
END:VEVENT
END:VCALENDAR